BEGIN:VCALENDAR
PRODID:-//Microsoft Corporation//Outlook 14.0 MIMEDIR//EN
VERSION:2.0
METHOD:PUBLISH
BEGIN:VEVENT
UID:20c5a08b6d0f81f42513a52d7dfa9ebbwww.fibromyalgiemontreal.ca
DTSTAMP:20260426T004145Z
DTSTART:2026-04-28T10:30:0000Z
DTEND:2026-04-28T11:30:0000Z
SUMMARY:Méditation pleine conscience Début 7 avril au 9 juin 2026 - En collaboration avec Fibromyalgie Laval 
LOCATION:
DESCRIPTION:En collaboration avec Fibromyalgie Laval.

Elle enseigne la méditation depuis septembre 2015 et a fait de nombreuses formations afin de se tenir à jour. Certains de ses clients la suivent depuis bientôt sept ans. Étant créative et passionnée de la méditation, elle donne le meilleur d’elle-même pour satisfaire sa clientèle qui est diversifiée.
END:VEVENT
END:VCALENDAR