BEGIN:VCALENDAR
PRODID:-//Microsoft Corporation//Outlook 14.0 MIMEDIR//EN
VERSION:2.0
METHOD:PUBLISH
BEGIN:VEVENT
UID:ca6dc0e7913971dfd3c5d7ce3f9f4f6ewww.fibromyalgiemontreal.ca
DTSTAMP:20260426T004237Z
DTSTART:2026-05-12T10:30:0000Z
DTEND:2026-05-12T11:30:0000Z
SUMMARY:Méditation pleine conscience Début 7 avril au 9 juin 2026 - En collaboration avec Fibromyalgie Laval 
LOCATION:
DESCRIPTION:En collaboration avec Fibromyalgie Laval.

Elle enseigne la méditation depuis septembre 2015 et a fait de nombreuses formations afin de se tenir à jour. Certains de ses clients la suivent depuis bientôt sept ans. Étant créative et passionnée de la méditation, elle donne le meilleur d’elle-même pour satisfaire sa clientèle qui est diversifiée.
END:VEVENT
END:VCALENDAR