BEGIN:VCALENDAR
PRODID:-//Microsoft Corporation//Outlook 14.0 MIMEDIR//EN
VERSION:2.0
METHOD:PUBLISH
BEGIN:VEVENT
UID:d73586b8071c6cad8f0dd90d00c8504cwww.fibromyalgiemontreal.ca
DTSTAMP:20260426T004013Z
DTSTART:2024-05-15T18:00:0000Z
DTEND:2024-05-15T19:00:0000Z
SUMMARY:Méditation pleine conscience Début 7 avril au 9 juin 2026 - En collaboration avec Fibromyalgie Laval 
LOCATION:
DESCRIPTION:En collaboration avec Fibromyalgie Laval.

Elle enseigne la méditation depuis septembre 2015 et a fait de nombreuses formations afin de se tenir à jour. Certains de ses clients la suivent depuis bientôt sept ans. Étant créative et passionnée de la méditation, elle donne le meilleur d’elle-même pour satisfaire sa clientèle qui est diversifiée.
END:VEVENT
END:VCALENDAR