BEGIN:VCALENDAR
PRODID:-//Microsoft Corporation//Outlook 14.0 MIMEDIR//EN
VERSION:2.0
METHOD:PUBLISH
BEGIN:VEVENT
UID:5b182ff3340b652a14f1023e17684f9bwww.fibromyalgiemontreal.ca
DTSTAMP:20260425T162536Z
DTSTART:2026-04-28T18:30:0000Z
DTEND:2026-04-28T19:30:0000Z
SUMMARY:Conférence -L’Art et la science du Bonheur
LOCATION:En Zoom
DESCRIPTION:L’art et la science du bonheur : une rencontre entre ce que la vie nous apprend et ce que la recherche prouve

END:VEVENT
END:VCALENDAR