BEGIN:VCALENDAR
PRODID:-//Microsoft Corporation//Outlook 14.0 MIMEDIR//EN
VERSION:2.0
METHOD:PUBLISH
BEGIN:VEVENT
UID:39eb5cc90dcabc0f5f797eab4f78dfd4www.fibromyalgiemontreal.ca
DTSTAMP:20260421T183233Z
DTSTART:2024-04-22T15:15:0000Z
DTEND:2024-04-22T16:05:0000Z
SUMMARY:Thérapie individuelle 22 avril 2024
LOCATION:911, rue Jean-Talon Est, Montréal, Québec, H2R 1V5
DESCRIPTION:La thérapie individuelle est une séance privée avec notre thérapeute en relation d’aide Diane Bricault.  L’entente avec Mme Bricault vous permet de bénéficier d’une séance de thérapie individuelle à moindre coût étant donné que la moitié des frais est absorbée par Fibromyalgie Montréal.  
END:VEVENT
END:VCALENDAR