BEGIN:VCALENDAR
PRODID:-//Microsoft Corporation//Outlook 14.0 MIMEDIR//EN
VERSION:2.0
METHOD:PUBLISH
BEGIN:VEVENT
UID:66f228aae63b7ef7eddd563f264fcdffwww.fibromyalgiemontreal.ca
DTSTAMP:20260421T183233Z
DTSTART:2023-11-28T10:00:0000Z
DTEND:2023-11-28T12:00:0000Z
SUMMARY:Thérapie individuelle 22 avril 2024
LOCATION:911, rue Jean-Talon Est, Montréal, Québec, H2R 1V5
DESCRIPTION:La thérapie individuelle est une séance privée avec notre thérapeute en relation d’aide Diane Bricault.  L’entente avec Mme Bricault vous permet de bénéficier d’une séance de thérapie individuelle à moindre coût étant donné que la moitié des frais est absorbée par Fibromyalgie Montréal.  
END:VEVENT
END:VCALENDAR