BEGIN:VCALENDAR
PRODID:-//Microsoft Corporation//Outlook 14.0 MIMEDIR//EN
VERSION:2.0
METHOD:PUBLISH
BEGIN:VEVENT
UID:d7034daec32d1119507613776d7b1b2cwww.fibromyalgiemontreal.ca
DTSTAMP:20260421T165406Z
DTSTART:2024-05-20T14:15:0000Z
DTEND:2024-05-20T15:05:0000Z
SUMMARY:Thérapie individuelle 20 mai 2024
LOCATION:911, rue Jean-Talon Est, Montréal, Québec, H2R 1V5
DESCRIPTION:La thérapie individuelle est une séance privée avec notre thérapeute en relation d’aide Diane Bricault.  L’entente avec Mme Bricault vous permet de bénéficier d’une séance de thérapie individuelle à moindre coût étant donné que la moitié des frais est absorbée par Fibromyalgie Montréal.  
END:VEVENT
END:VCALENDAR