BEGIN:VCALENDAR
PRODID:-//Microsoft Corporation//Outlook 14.0 MIMEDIR//EN
VERSION:2.0
METHOD:PUBLISH
BEGIN:VEVENT
UID:d9de8a8f77183fc7d2d025f3cdc65393www.fibromyalgiemontreal.ca
DTSTAMP:20260421T153226Z
DTSTART:2024-06-03T14:15:0000Z
DTEND:2024-06-03T15:05:0000Z
SUMMARY:Thérapie individuelle 3 juin 2024
LOCATION:911, rue Jean-Talon Est, Montréal, Québec, H2R 1V5
DESCRIPTION:La thérapie individuelle est une séance privée avec notre thérapeute en relation d’aide Diane Bricault.  L’entente avec Mme Bricault vous permet de bénéficier d’une séance de thérapie individuelle à moindre coût étant donné que la moitié des frais est absorbée par Fibromyalgie Montréal.  
END:VEVENT
END:VCALENDAR