BEGIN:VCALENDAR
PRODID:-//Microsoft Corporation//Outlook 14.0 MIMEDIR//EN
VERSION:2.0
METHOD:PUBLISH
BEGIN:VEVENT
UID:ef567e10f86ea7d663c88bc141d69a82www.fibromyalgiemontreal.ca
DTSTAMP:20260421T153225Z
DTSTART:2024-06-03T15:15:0000Z
DTEND:2024-06-03T16:20:0000Z
SUMMARY:Thérapie individuelle 3 juin 2024
LOCATION:911, rue Jean-Talon Est, Montréal, Québec, H2R 1V5
DESCRIPTION:La thérapie individuelle est une séance privée avec notre thérapeute en relation d’aide Diane Bricault.  L’entente avec Mme Bricault vous permet de bénéficier d’une séance de thérapie individuelle à moindre coût étant donné que la moitié des frais est absorbée par Fibromyalgie Montréal.  
END:VEVENT
END:VCALENDAR