BEGIN:VCALENDAR
PRODID:-//Microsoft Corporation//Outlook 14.0 MIMEDIR//EN
VERSION:2.0
METHOD:PUBLISH
BEGIN:VEVENT
UID:9efd815d21f0d9b6e7ed88fac21b5f2dwww.fibromyalgiemontreal.ca
DTSTAMP:20260421T153126Z
DTSTART:2023-10-17T10:30:0000Z
DTEND:2023-10-17T11:45:0000Z
SUMMARY:Thérapie individuelle 3 juin 2024
LOCATION:911, rue Jean-Talon Est, Montréal, Québec, H2R 1V5
DESCRIPTION:La thérapie individuelle est une séance privée avec notre thérapeute en relation d’aide Diane Bricault.  L’entente avec Mme Bricault vous permet de bénéficier d’une séance de thérapie individuelle à moindre coût étant donné que la moitié des frais est absorbée par Fibromyalgie Montréal.  
END:VEVENT
END:VCALENDAR