BEGIN:VCALENDAR
PRODID:-//Microsoft Corporation//Outlook 14.0 MIMEDIR//EN
VERSION:2.0
METHOD:PUBLISH
BEGIN:VEVENT
UID:e2cf892f86a2d46aba9849e3d19caa31www.fibromyalgiemontreal.ca
DTSTAMP:20260421T184025Z
DTSTART:2024-04-24T14:15:0000Z
DTEND:2024-04-24T15:15:0000Z
SUMMARY:Massage adapté 24 avril 2024
LOCATION:911, rue Jean-Talon Est, Montréal, Québec, H2R 1V5
DESCRIPTION:Massage adapté à votre condition.  Nancy Lavoie travaille avec des patients souffrant de douleurs chronique depuis plusieurs années.  Elle a développé des techniques qui lui permet de vous soulager de certaines douleurs.
END:VEVENT
END:VCALENDAR