BEGIN:VCALENDAR
PRODID:-//Microsoft Corporation//Outlook 14.0 MIMEDIR//EN
VERSION:2.0
METHOD:PUBLISH
BEGIN:VEVENT
UID:63614ba1b0318d4f594d07247a44fb7dwww.fibromyalgiemontreal.ca
DTSTAMP:20260421T184009Z
DTSTART:2023-12-05T10:30:0000Z
DTEND:2023-12-05T11:45:0000Z
SUMMARY:Massage adapté 24 avril 2024
LOCATION:911, rue Jean-Talon Est, Montréal, Québec, H2R 1V5
DESCRIPTION:Massage adapté à votre condition.  Nancy Lavoie travaille avec des patients souffrant de douleurs chronique depuis plusieurs années.  Elle a développé des techniques qui lui permet de vous soulager de certaines douleurs.
END:VEVENT
END:VCALENDAR