BEGIN:VCALENDAR
PRODID:-//Microsoft Corporation//Outlook 14.0 MIMEDIR//EN
VERSION:2.0
METHOD:PUBLISH
BEGIN:VEVENT
UID:6b8b0c7852089bdd3bbe7960dbe8b8b9www.fibromyalgiemontreal.ca
DTSTAMP:20260421T165518Z
DTSTART:2023-12-12T10:30:0000Z
DTEND:2023-12-12T11:45:0000Z
SUMMARY:Massage adapté 1er mai 2024
LOCATION:911, rue Jean-Talon Est, Montréal, Québec, H2R 1V5
DESCRIPTION:Massage adapté à votre condition.  Nancy Lavoie travaille avec des patients souffrant de douleurs chronique depuis plusieurs années.  Elle a développé des techniques qui lui permet de vous soulager de certaines douleurs.
END:VEVENT
END:VCALENDAR