BEGIN:VCALENDAR
PRODID:-//Microsoft Corporation//Outlook 14.0 MIMEDIR//EN
VERSION:2.0
METHOD:PUBLISH
BEGIN:VEVENT
UID:4085e49d07df90e14f6f1ef1b59f7d4cwww.fibromyalgiemontreal.ca
DTSTAMP:20260421T165406Z
DTSTART:2023-10-07T14:30:0000Z
DTEND:2023-10-07T15:45:0000Z
SUMMARY:Massage adapté 15 mai 2024
LOCATION:911, rue Jean-Talon Est, Montréal, Québec, H2R 1V5
DESCRIPTION:Massage adapté à votre condition.  Nancy Lavoie travaille avec des patients souffrant de douleurs chronique depuis plusieurs années.  Elle a développé des techniques qui lui permet de vous soulager de certaines douleurs.
END:VEVENT
END:VCALENDAR