BEGIN:VCALENDAR
PRODID:-//Microsoft Corporation//Outlook 14.0 MIMEDIR//EN
VERSION:2.0
METHOD:PUBLISH
BEGIN:VEVENT
UID:e3e46c1b31c8a88aa786204cd9a23cb0www.fibromyalgiemontreal.ca
DTSTAMP:20260421T165405Z
DTSTART:2023-10-24T10:00:0000Z
DTEND:2023-10-24T12:00:0000Z
SUMMARY:Massage adapté 22 mai 2024
LOCATION:911, rue Jean-Talon Est, Montréal, Québec, H2R 1V5
DESCRIPTION:Massage adapté à votre condition.  Nancy Lavoie travaille avec des patients souffrant de douleurs chronique depuis plusieurs années.  Elle a développé des techniques qui lui permet de vous soulager de certaines douleurs.
END:VEVENT
END:VCALENDAR