BEGIN:VCALENDAR
PRODID:-//Microsoft Corporation//Outlook 14.0 MIMEDIR//EN
VERSION:2.0
METHOD:PUBLISH
BEGIN:VEVENT
UID:015633470be927e05fee8e4aecd32b62www.fibromyalgiemontreal.ca
DTSTAMP:20260421T165406Z
DTSTART:2023-10-21T14:30:0000Z
DTEND:2023-10-21T15:45:0000Z
SUMMARY:Massage adapté 29 mai 2024 
LOCATION:911, rue Jean-Talon Est, Montréal, Québec, H2R 1V5
DESCRIPTION:Massage adapté à votre condition.  Nancy Lavoie travaille avec des patients souffrant de douleurs chronique depuis plusieurs années.  Elle a développé des techniques qui lui permet de vous soulager de certaines douleurs.
END:VEVENT
END:VCALENDAR