BEGIN:VCALENDAR
PRODID:-//Microsoft Corporation//Outlook 14.0 MIMEDIR//EN
VERSION:2.0
METHOD:PUBLISH
BEGIN:VEVENT
UID:a5028fdbbbf478f8bf935ba7a9886ca4www.fibromyalgiemontreal.ca
DTSTAMP:20260421T152039Z
DTSTART:2023-10-28T14:30:0000Z
DTEND:2023-10-28T15:45:0000Z
SUMMARY:Massage adapté 5 juin 2024
LOCATION:911, rue Jean-Talon Est, Montréal, Québec, H2R 1V5
DESCRIPTION:Massage adapté à votre condition.  Nancy Lavoie travaille avec des patients souffrant de douleurs chronique depuis plusieurs années.  Elle a développé des techniques qui lui permet de vous soulager de certaines douleurs.
END:VEVENT
END:VCALENDAR