BEGIN:VCALENDAR
PRODID:-//Microsoft Corporation//Outlook 14.0 MIMEDIR//EN
VERSION:2.0
METHOD:PUBLISH
BEGIN:VEVENT
UID:02aca06c26ca4addbaca69e607bb7e91www.fibromyalgiemontreal.ca
DTSTAMP:20260421T154225Z
DTSTART:2024-06-12T14:15:0000Z
DTEND:2024-06-12T15:15:0000Z
SUMMARY:Massage adapté 12 juin 2024 
LOCATION:911, rue Jean-Talon Est, Montréal, Québec, H2R 1V5
DESCRIPTION:Massage adapté à votre condition.  Nancy Lavoie travaille avec des patients souffrant de douleurs chronique depuis plusieurs années.  Elle a développé des techniques qui lui permet de vous soulager de certaines douleurs.
END:VEVENT
END:VCALENDAR