BEGIN:VCALENDAR
PRODID:-//Microsoft Corporation//Outlook 14.0 MIMEDIR//EN
VERSION:2.0
METHOD:PUBLISH
BEGIN:VEVENT
UID:fc8a409fa3118c0d6c817d569c31615cwww.fibromyalgiemontreal.ca
DTSTAMP:20260421T154226Z
DTSTART:2023-11-04T14:30:0000Z
DTEND:2023-11-04T15:45:0000Z
SUMMARY:Massage adapté 12 juin 2024 
LOCATION:911, rue Jean-Talon Est, Montréal, Québec, H2R 1V5
DESCRIPTION:Massage adapté à votre condition.  Nancy Lavoie travaille avec des patients souffrant de douleurs chronique depuis plusieurs années.  Elle a développé des techniques qui lui permet de vous soulager de certaines douleurs.
END:VEVENT
END:VCALENDAR