BEGIN:VCALENDAR
PRODID:-//Microsoft Corporation//Outlook 14.0 MIMEDIR//EN
VERSION:2.0
METHOD:PUBLISH
BEGIN:VEVENT
UID:09380fa16d4cde2250972f996b4937fcwww.fibromyalgiemontreal.ca
DTSTAMP:20260421T152038Z
DTSTART:2024-05-24T11:00:0000Z
DTEND:2024-05-24T12:00:0000Z
SUMMARY:Pilates adapté 3 mai au 14 juin 2024
LOCATION:911 Rue Jean-Talon Est, Montréal, QC, Canada
DESCRIPTION:L’approche de notre professeur Chantal Perron est plus thérapeutique et l’attention est portée à la prévention des blessures, grâce à un enseignement très personnalisé.
END:VEVENT
END:VCALENDAR