BEGIN:VCALENDAR
PRODID:-//Microsoft Corporation//Outlook 14.0 MIMEDIR//EN
VERSION:2.0
METHOD:PUBLISH
BEGIN:VEVENT
UID:a4412358e4b189db8959e9fca06fe7ccwww.fibromyalgiemontreal.ca
DTSTAMP:20260421T152037Z
DTSTART:2024-05-10T11:00:0000Z
DTEND:2024-05-10T12:00:0000Z
SUMMARY:Pilates adapté 3 mai au 14 juin 2024
LOCATION:911 Rue Jean-Talon Est, Montréal, QC, Canada
DESCRIPTION:L’approche de notre professeur Chantal Perron est plus thérapeutique et l’attention est portée à la prévention des blessures, grâce à un enseignement très personnalisé.
END:VEVENT
END:VCALENDAR