BEGIN:VCALENDAR
PRODID:-//Microsoft Corporation//Outlook 14.0 MIMEDIR//EN
VERSION:2.0
METHOD:PUBLISH
BEGIN:VEVENT
UID:1c7ef7b0100a9cc2f0d135b97e6bdc24www.fibromyalgiemontreal.ca
DTSTAMP:20260421T152038Z
DTSTART:2023-11-25T14:30:0000Z
DTEND:2023-11-25T15:45:0000Z
SUMMARY:Pilates adapté 3 mai au 14 juin 2024
LOCATION:911 Rue Jean-Talon Est, Montréal, QC, Canada
DESCRIPTION:L’approche de notre professeur Chantal Perron est plus thérapeutique et l’attention est portée à la prévention des blessures, grâce à un enseignement très personnalisé.
END:VEVENT
END:VCALENDAR